BEGIN:VCALENDAR
VERSION:2.0
PRODID:-// - ECPv6.15.20//NONSGML v1.0//EN
CALSCALE:GREGORIAN
METHOD:PUBLISH
X-ORIGINAL-URL:https://southsoundflyfishers.org
X-WR-CALDESC:Events for 
REFRESH-INTERVAL;VALUE=DURATION:PT1H
X-Robots-Tag:noindex
X-PUBLISHED-TTL:PT1H
BEGIN:VTIMEZONE
TZID:America/Los_Angeles
BEGIN:DAYLIGHT
TZOFFSETFROM:-0800
TZOFFSETTO:-0700
TZNAME:PDT
DTSTART:20240310T100000
END:DAYLIGHT
BEGIN:STANDARD
TZOFFSETFROM:-0700
TZOFFSETTO:-0800
TZNAME:PST
DTSTART:20241103T090000
END:STANDARD
BEGIN:DAYLIGHT
TZOFFSETFROM:-0800
TZOFFSETTO:-0700
TZNAME:PDT
DTSTART:20250309T100000
END:DAYLIGHT
BEGIN:STANDARD
TZOFFSETFROM:-0700
TZOFFSETTO:-0800
TZNAME:PST
DTSTART:20251102T090000
END:STANDARD
BEGIN:DAYLIGHT
TZOFFSETFROM:-0800
TZOFFSETTO:-0700
TZNAME:PDT
DTSTART:20260308T100000
END:DAYLIGHT
BEGIN:STANDARD
TZOFFSETFROM:-0700
TZOFFSETTO:-0800
TZNAME:PST
DTSTART:20261101T090000
END:STANDARD
END:VTIMEZONE
BEGIN:VEVENT
DTSTART;TZID=America/Los_Angeles:20251021T183000
DTEND;TZID=America/Los_Angeles:20251021T203000
DTSTAMP:20260420T004532
CREATED:20250312T192251Z
LAST-MODIFIED:20251019T224800Z
UID:4223-1761071400-1761078600@southsoundflyfishers.org
SUMMARY:Monthly Meeting Featuring Joe Jackson
DESCRIPTION:Doors open at 6:30PM \nOur speaker will be Joe Jackson\, often known by his online persona “Sgt. Bassfisher”. Joe is a well-regarded figure in the fishing and fly-tying community. He is known for his expertise in fly tying\, particularly with deer hair techniques. Joe has gained recognition for his engaging teaching style\, sharing his knowledge through workshops\, instructional videos\, and social media platforms. His passion for fishing and fly tying is evident in his work\, where he focuses on educating anglers on effective methods and innovative patterns. Joe’s contributions to the community have inspired many to enhance their skills and appreciate the art of fly tying.\nHe will be presenting remotely via Zoom. URL will be forthcoming.
URL:https://southsoundflyfishers.org/event/monthly-meeting-12/
LOCATION:North Olympia Fire Department\, 5046 Boston Harbor Rd NE\, Olympia\, WA\, 98506\, United States
CATEGORIES:Monthly Club Meeting
ATTACH;FMTTYPE=image/bmp:https://southsoundflyfishers.org/wp-content/uploads/2013/07/ez2.bmp
ORGANIZER;CN="Jared Wood":MAILTO:President@southsoundflyfishers.org
END:VEVENT
END:VCALENDAR