BEGIN:VCALENDAR
VERSION:2.0
PRODID:-// - ECPv6.15.20//NONSGML v1.0//EN
CALSCALE:GREGORIAN
METHOD:PUBLISH
X-ORIGINAL-URL:https://southsoundflyfishers.org
X-WR-CALDESC:Events for 
REFRESH-INTERVAL;VALUE=DURATION:PT1H
X-Robots-Tag:noindex
X-PUBLISHED-TTL:PT1H
BEGIN:VTIMEZONE
TZID:America/Los_Angeles
BEGIN:DAYLIGHT
TZOFFSETFROM:-0800
TZOFFSETTO:-0700
TZNAME:PDT
DTSTART:20240310T100000
END:DAYLIGHT
BEGIN:STANDARD
TZOFFSETFROM:-0700
TZOFFSETTO:-0800
TZNAME:PST
DTSTART:20241103T090000
END:STANDARD
BEGIN:DAYLIGHT
TZOFFSETFROM:-0800
TZOFFSETTO:-0700
TZNAME:PDT
DTSTART:20250309T100000
END:DAYLIGHT
BEGIN:STANDARD
TZOFFSETFROM:-0700
TZOFFSETTO:-0800
TZNAME:PST
DTSTART:20251102T090000
END:STANDARD
BEGIN:DAYLIGHT
TZOFFSETFROM:-0800
TZOFFSETTO:-0700
TZNAME:PDT
DTSTART:20260308T100000
END:DAYLIGHT
BEGIN:STANDARD
TZOFFSETFROM:-0700
TZOFFSETTO:-0800
TZNAME:PST
DTSTART:20261101T090000
END:STANDARD
END:VTIMEZONE
BEGIN:VEVENT
DTSTART;TZID=America/Los_Angeles:20251122T090000
DTEND;TZID=America/Los_Angeles:20251122T090000
DTSTAMP:20260422T014051
CREATED:20251025T183536Z
LAST-MODIFIED:20251114T191402Z
UID:4443-1763802000-1763802000@southsoundflyfishers.org
SUMMARY:Casting Skills Course - Earn Your Certification
DESCRIPTION:South Sound Fly Fishers along with Puget Sound Fly Fishers (our friends in Tacoma) will be hosting a Casting Skills Development Course on Saturday\, November 22\, 2025. This is an opportunity for you to earn your Bronze\, Silver or Gold casting certificate. It may also be an opportunity to meet a new friend or two. Review this PDF for details. \nHope to see you there.
URL:https://southsoundflyfishers.org/event/casting-skills-course-earn-your-certification/
LOCATION:Tumwater Historical Park\, 802 Deschutes Way SW\, Tumwater\, WA\, 98501\, United States
CATEGORIES:Class
ATTACH;FMTTYPE=image/png:https://southsoundflyfishers.org/wp-content/uploads/2025/10/FlyCast1.png
END:VEVENT
BEGIN:VEVENT
DTSTART;TZID=America/Los_Angeles:20251122T110000
DTEND;TZID=America/Los_Angeles:20251122T133000
DTSTAMP:20260422T014051
CREATED:20251105T171651Z
LAST-MODIFIED:20251105T171651Z
UID:4471-1763809200-1763818200@southsoundflyfishers.org
SUMMARY:Club Outing - Fly Tying at the Fire Station
DESCRIPTION:Come join us at the North Olympia Fire Station for some fly ting and to discuss possible outings for the coming year. A potluck luncheon is also on the agenda. Bring your Fly tying gear\, beverage and anything you’d like to share.
URL:https://southsoundflyfishers.org/event/club-outing-fly-tying-at-the-fire-station/
LOCATION:North Olympia Fire Department\, 5046 Boston Harbor Rd NE\, Olympia\, WA\, 98506\, United States
CATEGORIES:Club Fishing Outing
END:VEVENT
END:VCALENDAR